BEGIN:VCALENDAR
VERSION:2.0
PRODID:Imitheme.com 
BEGIN:VEVENT
UID:20210225T1937591533852142
DTSTAMP;TZID=UTC:20210225T193759
DTSTART;TZID=UTC:20210711T182900
DTEND;TZID=UTC:20210711T230000
SUMMARY:New Year Eve
LOCATION:55-57 Lusher Rd\, Croydon VIC 3136
DESCRIPTION:
END:VEVENT
END:VCALENDAR
