BEGIN:VCALENDAR
VERSION:2.0
PRODID:Imitheme.com
BEGIN:VEVENT
UID:20210225T191827-1044910180
DTSTAMP:20210225T191827
DTSTART:20210404T120000
DTEND:20210404T150000
SUMMARY:Easter Sunday
LOCATION:55-57 Lusher Rd, Croydon VIC 3136
DESCRIPTION: 
END:VEVENT
END:VCALENDAR
