BEGIN:VCALENDAR
VERSION:2.0
PRODID:Imitheme.com
BEGIN:VEVENT
UID:20210225T191807-1276948551
DTSTAMP:20210225T191807
DTSTART:20210403T191800
DTEND:20210403T191800
SUMMARY:CM Teachers Reflection
LOCATION:55-57 Lusher Rd, Croydon VIC 3136
DESCRIPTION: 
END:VEVENT
END:VCALENDAR
