BEGIN:VCALENDAR
VERSION:2.0
PRODID:Imitheme.com 
BEGIN:VEVENT
UID:20210225T191755870636293
DTSTAMP;TZID=UTC:20210225T191755
DTSTART;TZID=UTC:20210403T191700
DTEND;TZID=UTC:20210403T191700
SUMMARY:CM Teachers Reflection
LOCATION:55-57 Lusher Rd\, Croydon VIC 3136
DESCRIPTION:
END:VEVENT
END:VCALENDAR
