BEGIN:VCALENDAR
VERSION:2.0
PRODID:Imitheme.com
BEGIN:VEVENT
UID:20210225T193222-1973670184
DTSTAMP:20210225T193222
DTSTART:20210307T180000
DTEND:20210307T210000
SUMMARY:CM Caanhman
LOCATION:55-57 Lusher Rd, Croydon VIC 3136
DESCRIPTION: 
END:VEVENT
END:VCALENDAR
