BEGIN:VCALENDAR
VERSION:2.0
PRODID:Imitheme.com 
BEGIN:VEVENT
UID:20210225T1917021430714620
DTSTAMP;TZID=UTC:20210225T191702
DTSTART;TZID=UTC:20210314T120000
DTEND;TZID=UTC:20210314T150000
SUMMARY:Building Sunday
LOCATION:55-57 Lusher Rd\, Croydon VIC 3136
DESCRIPTION:
END:VEVENT
END:VCALENDAR
