BEGIN:VCALENDAR
VERSION:2.0
PRODID:Imitheme.com
BEGIN:VEVENT
UID:20210225T193834-1965836745
DTSTAMP:20210225T193834
DTSTART:20210711T193800
DTEND:20210711T193800
SUMMARY:AGM
LOCATION:55-57 Lusher Rd, Croydon VIC 3136
DESCRIPTION: 
END:VEVENT
END:VCALENDAR
